BEGIN:VCALENDAR
VERSION:2.0
PRODID:-//EB Azahar Eventos - ECPv6.10.1//NONSGML v1.0//EN
CALSCALE:GREGORIAN
METHOD:PUBLISH
X-WR-CALNAME:EB Azahar Eventos
X-ORIGINAL-URL:https://ebazahareventos.com
X-WR-CALDESC:Eventos para EB Azahar Eventos
REFRESH-INTERVAL;VALUE=DURATION:PT1H
X-Robots-Tag:noindex
X-PUBLISHED-TTL:PT1H
BEGIN:VTIMEZONE
TZID:Europe/Madrid
BEGIN:DAYLIGHT
TZOFFSETFROM:+0100
TZOFFSETTO:+0200
TZNAME:CEST
DTSTART:20250330T010000
END:DAYLIGHT
BEGIN:STANDARD
TZOFFSETFROM:+0200
TZOFFSETTO:+0100
TZNAME:CET
DTSTART:20251026T010000
END:STANDARD
END:VTIMEZONE
BEGIN:VEVENT
DTSTART;TZID=Europe/Madrid:20250412T100000
DTEND;TZID=Europe/Madrid:20250412T200000
DTSTAMP:20260421T224007
CREATED:20250319T183136Z
LAST-MODIFIED:20250409T171550Z
UID:24701-1744452000-1744488000@ebazahareventos.com
SUMMARY:Autocuidado y Relax
DESCRIPTION:Descripción General:\n\n\n\nVive una jornada única dedicada al autoconocimiento\, bienestar y conexión con los sentidos. ARA Experiencias es un evento diseñado para potenciar tu bienestar físico y emocional a través de diversas disciplinas como psicología\, terapia gestalt\, nutrición\, yoga\, quiroestética y enología. Disfruta de un día lleno de actividades\, relajación y aprendizaje en un entorno especial. \n\n\n\nFecha y Lugar:\n\n\n\n🗓 Sábado\, 12 de abril de 2025📍  \n\n\n\n¿Qué incluye?\n\n\n\n✔️ Taller de autoconocimiento a través de los sentidos y emociones.✔️ Charla de nutrición y alimentación integrativa.✔️ Sesión de yoga revitalizante.✔️ Ritual de autocuidado corporal con cromoterapia en spa.✔️ Cata de productos locales guiada por una sommelier.✔️ Comida incluida. \n\n\n\n💰 Precio e Inscripción:\n\n\n\n💳 120€ por persona (incluye todas las actividades y la comida).🏡 Opción de alojamiento: 80€ a repartir entre los ocupantes del apartamento (2-4 personas). \n\n\n\nReservas y Contacto:\n\n\n\n📞 Elena Beltrán – 617 411 667📧 ebazahareventos@gmail.com \n\n\n\nPolítica de Pagos:\n\n\n\n🔹 Se abonará 20€ como garantía o el pago total.🔹 Cuenta bancaria: ES93 2100 1495 0302 0021 1837🔹 Concepto: Participación en ARA Experiencias – Nombre Completo \n\n\n\n❌ Política de Cancelación:\n\n\n\n🔸 Cancelaciones antes del 5 de abril: reembolso total.🔸 Cancelaciones después del 5 de abril: no se devuelve la garantía.🔸 Cancelaciones a 48h del evento: pago completo sin reembolso.
URL:https://ebazahareventos.com/evento/autocuidado-y-relax/
ATTACH;FMTTYPE=image/webp:https://ebazahareventos.com/wp-content/uploads/2025/03/evento12abril.webp
END:VEVENT
END:VCALENDAR