BEGIN:VCALENDAR
VERSION:2.0
PRODID:-//EB Azahar Eventos - ECPv6.10.1//NONSGML v1.0//EN
CALSCALE:GREGORIAN
METHOD:PUBLISH
X-WR-CALNAME:EB Azahar Eventos
X-ORIGINAL-URL:https://ebazahareventos.com
X-WR-CALDESC:Eventos para EB Azahar Eventos
REFRESH-INTERVAL;VALUE=DURATION:PT1H
X-Robots-Tag:noindex
X-PUBLISHED-TTL:PT1H
BEGIN:VTIMEZONE
TZID:Europe/Madrid
BEGIN:DAYLIGHT
TZOFFSETFROM:+0100
TZOFFSETTO:+0200
TZNAME:CEST
DTSTART:20250330T010000
END:DAYLIGHT
BEGIN:STANDARD
TZOFFSETFROM:+0200
TZOFFSETTO:+0100
TZNAME:CET
DTSTART:20251026T010000
END:STANDARD
END:VTIMEZONE
BEGIN:VEVENT
DTSTART;TZID=Europe/Madrid:20250426T000000
DTEND;TZID=Europe/Madrid:20250426T235959
DTSTAMP:20260421T224006
CREATED:20250319T185600Z
LAST-MODIFIED:20250409T171543Z
UID:24722-1745625600-1745711999@ebazahareventos.com
SUMMARY:Día Internacional de la Madre Tierra
DESCRIPTION:Descripción General:\n\n\n\nCelebra con nosotros el Día Internacional de la Madre Tierra en una jornada especial de yoga y senderismo. Una experiencia diseñada para conectar con la naturaleza\, respirar profundo y tomar conciencia sobre cómo cuidar nuestro planeta. \n\n\n\n📅 Fecha y Lugar:\n\n\n\n🗓 Sábado\, 26 de abril de 2025📍 La Font Tallà \n\n\n\n¿Qué incluye?\n\n\n\n✔️ Sesión de yoga guiado por Mª José Vallés (Centro Jade Almassora).✔️ Almuerzo para reponer energías.✔️ Ruta de senderismo con acción solidaria medioambiental. \n\n\n\n💰 Precio e Inscripción:\n\n\n\n💳 40€ por persona🎟 Descuento del 10% para alumnos del centro y reservas antes del 9 de abril.📆 Fecha límite de pago: 23 de abril. \n\n\n\n📝 Reservas y Contacto:\n\n\n\n📞 Elena (Organización): 617 411 667📞 Mª José (Instructora de Yoga): 655 67 02 60 \n\n\n\n💳 Métodos de Pago:\n\n\n\n✅ Bizum o transferencia bancaria (consultar detalles al inscribirse). \n\n\n\n❌ Política de Cancelación:\n\n\n\n🔸 Cancelaciones a 48h del evento: se carga el 25% del importe.🔸 Cancelaciones a 24h del evento: se carga el 60% del importe.🔸 Cancelaciones el mismo día o no presentación: sin reembolso. \n\n\n\n\n\n\n\n\n\n\n\n\n\nPost Día Inter.Madre Tierra 260425Descarga
URL:https://ebazahareventos.com/evento/dia-internacional-de-la-madre-tierra/
ATTACH;FMTTYPE=image/webp:https://ebazahareventos.com/wp-content/uploads/2025/03/jornada.webp
END:VEVENT
END:VCALENDAR