BEGIN:VCALENDAR
VERSION:2.0
PRODID:-//EB Azahar Eventos - ECPv6.10.1//NONSGML v1.0//EN
CALSCALE:GREGORIAN
METHOD:PUBLISH
X-ORIGINAL-URL:https://ebazahareventos.com
X-WR-CALDESC:Eventos para EB Azahar Eventos
REFRESH-INTERVAL;VALUE=DURATION:PT1H
X-Robots-Tag:noindex
X-PUBLISHED-TTL:PT1H
BEGIN:VTIMEZONE
TZID:Europe/Madrid
BEGIN:DAYLIGHT
TZOFFSETFROM:+0100
TZOFFSETTO:+0200
TZNAME:CEST
DTSTART:20250330T010000
END:DAYLIGHT
BEGIN:STANDARD
TZOFFSETFROM:+0200
TZOFFSETTO:+0100
TZNAME:CET
DTSTART:20251026T010000
END:STANDARD
END:VTIMEZONE
BEGIN:VEVENT
DTSTART;TZID=Europe/Madrid:20250507T190000
DTEND;TZID=Europe/Madrid:20250507T204500
DTSTAMP:20260421T205625
CREATED:20250409T171237Z
LAST-MODIFIED:20250409T171502Z
UID:24800-1746644400-1746650700@ebazahareventos.com
SUMMARY:Cata de Vinos
DESCRIPTION:CATA de VINOS\n\n\n\nPor Juan Emilio Gómez Palomares \n\n\n\nRIOJA VS BORDEAUX \n\n\n\nMiércoles\, 7 mayo \n\n\n\nPLAZAS LIMITADAS \n\n\n\nInformación y Reservas \n\n\n\nde 19h00-20h45 \n\n\n\n\n\n\n\n\n\n\n\n\n\nUnknownDescarga
URL:https://ebazahareventos.com/evento/cata-de-vinos/
ATTACH;FMTTYPE=image/png:https://ebazahareventos.com/wp-content/uploads/2025/04/Captura-de-pantalla-2025-04-09-a-las-19.11.04.png
END:VEVENT
END:VCALENDAR