BEGIN:VCALENDAR
VERSION:2.0
PRODID:-//EB Azahar Eventos - ECPv6.10.1//NONSGML v1.0//EN
CALSCALE:GREGORIAN
METHOD:PUBLISH
X-WR-CALNAME:EB Azahar Eventos
X-ORIGINAL-URL:https://ebazahareventos.com
X-WR-CALDESC:Eventos para EB Azahar Eventos
REFRESH-INTERVAL;VALUE=DURATION:PT1H
X-Robots-Tag:noindex
X-PUBLISHED-TTL:PT1H
BEGIN:VTIMEZONE
TZID:Europe/Madrid
BEGIN:DAYLIGHT
TZOFFSETFROM:+0100
TZOFFSETTO:+0200
TZNAME:CEST
DTSTART:20250330T010000
END:DAYLIGHT
BEGIN:STANDARD
TZOFFSETFROM:+0200
TZOFFSETTO:+0100
TZNAME:CET
DTSTART:20251026T010000
END:STANDARD
END:VTIMEZONE
BEGIN:VEVENT
DTSTART;TZID=Europe/Madrid:20250611T190000
DTEND;TZID=Europe/Madrid:20250611T204500
DTSTAMP:20260421T191504
CREATED:20250526T180728Z
LAST-MODIFIED:20250526T180804Z
UID:24943-1749668400-1749674700@ebazahareventos.com
SUMMARY:Cata de Vinos: RIOJA vs BORDEAUX
DESCRIPTION:¿Prefieres la elegancia francesa o la intensidad española? \n\n\n\nTe invitamos a una experiencia sensorial única donde enfrentamos dos de las regiones vinícolas más emblemáticas del mundo: Rioja (España) y Burdeos (Francia). \n\n\n\nGuiados por el enólogo Juan Emilio Gómez Palomares\, aprenderás a distinguir sus diferencias a través del color\, el aroma y el sabor de sus vinos. Todo ello acompañado de un selecto aperitivo\, con quesos singulares que realzan cada copa. \n\n\n\nUna cata exclusiva\, pensada para romper con la rutina y disfrutar del buen vino en buena compañía. \n\n\n\n📅 Datos de interés\n\n\n\n\nFecha: Miércoles\, 11 de junio de 2025\n\n\n\nHora: De 19:00 a 20:45 (bienvenida a las 19:00\, inicio a las 19:15)\n\n\n\nLugar: Raspabar\n\n\n\nPrecio: 40 € por persona\n\n\n\nReserva: 10 € (fecha límite de pago: 4 de junio)\n\n\n\nPlazas limitadas\n\n\n\n\nPolítica de cancelación: \n\n\n\n\nCancelaciones con menos de 48h: no se devuelve la reserva\n\n\n\nCancelaciones con menos de 24h o no asistencia: no se reembolsa el importe salvo causa justificada\n\n\n\n\nRIOJA&BURDEOS DosierDescarga\n\n\n\n\n\n\n\n📞 Información y Reservas\n\n\n\n\nInstagram: @ebazahareventos\n\n\n\nTeléfonos: 617 411 667 / 622 209 896
URL:https://ebazahareventos.com/evento/cata-de-vinos-rioja-vs-bordeaux/
ATTACH;FMTTYPE=image/png:https://ebazahareventos.com/wp-content/uploads/2025/04/Captura-de-pantalla-2025-04-09-a-las-19.11.04.png
END:VEVENT
END:VCALENDAR