BEGIN:VCALENDAR
VERSION:2.0
PRODID:-//EB Azahar Eventos - ECPv6.10.1//NONSGML v1.0//EN
CALSCALE:GREGORIAN
METHOD:PUBLISH
X-ORIGINAL-URL:https://ebazahareventos.com
X-WR-CALDESC:Eventos para EB Azahar Eventos
REFRESH-INTERVAL;VALUE=DURATION:PT1H
X-Robots-Tag:noindex
X-PUBLISHED-TTL:PT1H
BEGIN:VTIMEZONE
TZID:Europe/Madrid
BEGIN:DAYLIGHT
TZOFFSETFROM:+0100
TZOFFSETTO:+0200
TZNAME:CEST
DTSTART:20250330T010000
END:DAYLIGHT
BEGIN:STANDARD
TZOFFSETFROM:+0200
TZOFFSETTO:+0100
TZNAME:CET
DTSTART:20251026T010000
END:STANDARD
END:VTIMEZONE
BEGIN:VEVENT
DTSTART;TZID=Europe/Madrid:20250906T110000
DTEND;TZID=Europe/Madrid:20250906T133000
DTSTAMP:20260421T124607
CREATED:20250730T090339Z
LAST-MODIFIED:20250730T090822Z
UID:25155-1757156400-1757165400@ebazahareventos.com
SUMMARY:Taller y Cata de Quesos Artesanales
DESCRIPTION:Screenshot\n\n\n\nUna experiencia auténtica para los amantes del queso. \n\n\n\nElabora tu propio queso fresco y degusta cinco variedades artesanales en una jornada deliciosa. \n\n\n\n¿Qué incluye el evento?\n\n\n\n\nTaller práctico para elaborar tu propio queso fresco con tus propias manos.\n\n\n\nCata guiada de 5 quesos de oveja:\n\nSemicurado (2 meses)\n\n\n\nCurado (6 meses)\n\n\n\nAñejo (12 meses)\n\n\n\nAromatizado con hierbas (4 meses)\n\n\n\nDe leche cruda (4 meses)\n\n\n\n\n\nAl finalizar\, recogerás el queso que tú mismo has preparado.\n\n\n\n\n👨‍🏫 Guiado por:\n\n\n\nÓscar y Mayte\, artesanos de la Quesería Tot de Poble\, quienes compartirán su experiencia\, historia y secretos de la elaboración tradicional. \n\n\n\n\n\n\n\n💵 Precio\n\n\n\n35€ por persona \n\n\n\nPago anticipado por Bizum al 617 411 667 \n\n\n\n\nÚltimo día de inscripción: 1 de septiembre de 2025\n\n\n\nÚltimo día para pagar: 3 de septiembre de 2025\n\n\n\n\n\nCancelaciones: \n\n\n\n\nHasta 48h antes: cancelación gratuita\n\n\n\nDespués: no se devolverá el importe salvo causa justificada\n\n\n\n\n\n\n\n\n\n📲 Inscripciones\n\n\n\n📞 617 411 667 (Elena Beltrán – EB Azahar Eventos Temáticos) \n\n\n\n📧 ebazahareventos@gmail.com \n\n\n\n📸 @ebazahareventos \n\n\n\n\n\n\n\nOrganiza\n\n\n\nEB Azahar Eventos Temáticos \n\n\n\nEn colaboración con Quesería Tot de Poble \n\n\n\n\n\n\n\n\n\n\n\nDosier jornada Taller y Cata QuesosDescarga
URL:https://ebazahareventos.com/evento/taller-y-cata-de-quesos-artesanales/
ATTACH;FMTTYPE=image/jpeg:https://ebazahareventos.com/wp-content/uploads/2025/07/quesos.jpg
END:VEVENT
BEGIN:VEVENT
DTSTART;TZID=Europe/Madrid:20250926T120000
DTEND;TZID=Europe/Madrid:20250928T170000
DTSTAMP:20260421T124607
CREATED:20250629T183046Z
LAST-MODIFIED:20250701T163057Z
UID:25013-1758888000-1759078800@ebazahareventos.com
SUMMARY:Retiro de Yoga JADE
DESCRIPTION:Del 26 al 28 de septiembre de 2025 · Montanejos (Castellón) \n\n\n\nHotel Rosaleda del Mijares* \n\n\n\nUn retiro diseñado para reconectar contigo mismo\, sumergirte en la calma y renovar cuerpo y mente en un entorno natural privilegiado. \n\n\n\n¿Dónde?\n\n\n\nHotel Rosaleda del Mijares\, un alojamiento con encanto a orillas del río de aguas termales. Cuenta con spa\, piscina exterior\, espacios de relax y gastronomía local. \n\n\n\n¿Qué incluye?\n\n\n\n\nAlojamiento en habitación doble\n\n\n\nPensión completa\n\n\n\nTodas las dinámicas y sesiones de yoga\n\n\n\nExcursión a la Fuente de los Baños\n\n\n\nAcceso al spa (piscina\, jacuzzi\, sauna\, vaporarium)\n\n\n\n\n¿Qué practicaremos?\n\n\n\nGuiado por Mª José Vallés de Centre Jade: \n\n\n\n\nYoga Integral\n\n\n\nYoga Kundalini\n\n\n\nYoga para los sentidos\n\n\n\nMeditación\, relajación y Breathwork\n\n\n\nYoga de la risa\n\n\n\n\nPrograma resumido\n\n\n\nViernes 26 \n\n\n\n\nLlegada y bienvenida\n\n\n\nYoga integral y cena\n\n\n\nInfusión y tertulia grupal (opcional)\n\n\n\n\nSábado 27 \n\n\n\n\nYoga kundalini + breathwork\n\n\n\nExcursión a la Fuente de los Baños\n\n\n\nComida + sesión de spa\n\n\n\nYoga para los sentidos + meditación\n\n\n\nCena + tertulia (opcional)\n\n\n\n\nDomingo 28 \n\n\n\n\nYoga integral + yoga de la risa\n\n\n\nDesayuno\, comida y cierre\n\n\n\n\nInformación práctica\n\n\n\n\n💵 Precio: 249€ por persona (IVA incluido)\n\n\n\n📌 Reserva: 100€ por Bizum o transferencia\n\nFecha límite de pago: 12/09/25\n\n\n\n\n\n📲 Contacto e inscripciones:\n\nElena Beltrán: 617 411 667 · ebazahareventos@gmail.com\n\n\n\nMª José Vallés: 616 546 539\n\n\n\n\n\n\n\nPolítica de cancelación: \n\n\n\n\n\nHasta el 16/09: cancelación sin gastos\n\n\n\nDel 17 al 22/09: no se devuelve la reserva\n\n\n\nDespués del 22/09: no reembolsable salvo causa de fuerza mayor justificada\n\n\n\n\nOrganizan\n\n\n\n@jade_almassora \n\n\n\n@ebazahareventos \n\n\n\n\n\n\n\n\n\n\n\nDosier retiro yoga jadeDescarga
URL:https://ebazahareventos.com/evento/retiro-de-yoga-jade/
ATTACH;FMTTYPE=image/png:https://ebazahareventos.com/wp-content/uploads/2025/06/Captura-de-pantalla-2025-06-29-a-las-20.29.47.png
END:VEVENT
END:VCALENDAR